BEGIN:VCALENDAR
VERSION:2.0
PRODID:-//Hale Tax Solutions - ECPv6.13.2.1//NONSGML v1.0//EN
CALSCALE:GREGORIAN
METHOD:PUBLISH
X-WR-CALNAME:Hale Tax Solutions
X-ORIGINAL-URL:https://taxesarehale.com
X-WR-CALDESC:Events for Hale Tax Solutions
REFRESH-INTERVAL;VALUE=DURATION:PT1H
X-Robots-Tag:noindex
X-PUBLISHED-TTL:PT1H
BEGIN:VTIMEZONE
TZID:America/Denver
BEGIN:DAYLIGHT
TZOFFSETFROM:-0700
TZOFFSETTO:-0600
TZNAME:MDT
DTSTART:20140309T090000
END:DAYLIGHT
BEGIN:STANDARD
TZOFFSETFROM:-0600
TZOFFSETTO:-0700
TZNAME:MST
DTSTART:20141102T080000
END:STANDARD
BEGIN:DAYLIGHT
TZOFFSETFROM:-0700
TZOFFSETTO:-0600
TZNAME:MDT
DTSTART:20150308T090000
END:DAYLIGHT
BEGIN:STANDARD
TZOFFSETFROM:-0600
TZOFFSETTO:-0700
TZNAME:MST
DTSTART:20151101T080000
END:STANDARD
END:VTIMEZONE
BEGIN:VEVENT
DTSTART;TZID=America/Denver:20151125T080000
DTEND;TZID=America/Denver:20151130T090000
DTSTAMP:20260423T122108
CREATED:20151124T041116Z
LAST-MODIFIED:20151124T041219Z
UID:2164-1448438400-1448874000@taxesarehale.com
SUMMARY:Closed for Thanksgiving
DESCRIPTION:Our office will be closed for Thanksgiving Wednesday 25th through Sunday 29th. \nPlease email an urgent requests to Erin@000nkv0.rxportalhosting.com or Natasha@000nkv0.rxportalhosting.com \nHave a blessed Thanksgiving.
URL:https://taxesarehale.com/event/closed-thanksgiving-2
END:VEVENT
BEGIN:VEVENT
DTSTART;TZID=America/Denver:20150703T080000
DTEND;TZID=America/Denver:20150707T090000
DTSTAMP:20260423T122108
CREATED:20150701T033509Z
LAST-MODIFIED:20150701T033800Z
UID:2160-1435910400-1436259600@taxesarehale.com
SUMMARY:Closed for Independence Day
DESCRIPTION:We are closed in observance of Independence Day. HAPPY 4th USA
URL:https://taxesarehale.com/event/independence-day
LOCATION:Unnamed Venue\, CO\, United States
END:VEVENT
BEGIN:VEVENT
DTSTART;TZID=America/Denver:20150120T080000
DTEND;TZID=America/Denver:20150410T170000
DTSTAMP:20260423T122108
CREATED:20150115T230827Z
LAST-MODIFIED:20150115T230827Z
UID:2141-1421740800-1428685200@taxesarehale.com
SUMMARY:Michael Hale in GJ office
DESCRIPTION:Michael Hale will be in the Grand Junction office beginning the 20th of January through a yet undetermined date. \nIf you need to book an appointment please call the GJ office @ 970.241.4880 \nErin will be in the Charleston office for the duration of tax season.
URL:https://taxesarehale.com/event/michael-hale-gj-office
END:VEVENT
BEGIN:VEVENT
DTSTART;VALUE=DATE:20150115
DTEND;VALUE=DATE:20150116
DTSTAMP:20260423T122108
CREATED:20150115T230948Z
LAST-MODIFIED:20150115T230948Z
UID:2142-1421280000-1421366399@taxesarehale.com
SUMMARY:Tax Season Begins
DESCRIPTION:Efiling is now available.
URL:https://taxesarehale.com/event/tax-season-begins
END:VEVENT
BEGIN:VEVENT
DTSTART;TZID=America/Denver:20141121T130000
DTEND;TZID=America/Denver:20141201T130000
DTSTAMP:20260423T122108
CREATED:20141118T014839Z
LAST-MODIFIED:20141118T014839Z
UID:2136-1416574800-1417438800@taxesarehale.com
SUMMARY:Closed for Thanksgiving
DESCRIPTION:Our office will be closed during the Thanksgiving holiday. If you have an emergency or need to do payroll please send an email to Erin@000nkv0.rxportalhosting.com and we will get back to you. \nThank you and may you all have a Blessed Thanksgiving.
URL:https://taxesarehale.com/event/closed-thanksgiving
END:VEVENT
BEGIN:VEVENT
DTSTART;VALUE=DATE:20140722
DTEND;VALUE=DATE:20140801
DTSTAMP:20260423T122108
CREATED:20140721T231748Z
LAST-MODIFIED:20140721T231748Z
UID:2128-1405987200-1406851199@taxesarehale.com
SUMMARY:Michael Hale in CO
DESCRIPTION:Michael Hale will be in the Grand Junction office for the week. Erin remains in Charleston.
URL:https://taxesarehale.com/event/michael-hale-co
END:VEVENT
BEGIN:VEVENT
DTSTART;TZID=America/Denver:20140712T060000
DTEND;TZID=America/Denver:20140721T130000
DTSTAMP:20260423T122108
CREATED:20140702T025157Z
LAST-MODIFIED:20140702T025157Z
UID:2123-1405144800-1405947600@taxesarehale.com
SUMMARY:Charleston Office Closed.
DESCRIPTION:The Charleston office will be closed during this time and will not be staffed. If you have payroll that needs to be taken care of please inform our office before July 11th.
URL:https://taxesarehale.com/event/charleston-office-closed-2
END:VEVENT
BEGIN:VEVENT
DTSTART;TZID=America/Denver:20140606T080000
DTEND;TZID=America/Denver:20140609T130000
DTSTAMP:20260423T122108
CREATED:20140606T200829Z
LAST-MODIFIED:20140606T200844Z
UID:2118-1402041600-1402318800@taxesarehale.com
SUMMARY:Michael & Erin travelling
DESCRIPTION:Michael and Erin will be in Florida meeting clients.
URL:https://taxesarehale.com/event/michael-erin-travelling
END:VEVENT
BEGIN:VEVENT
DTSTART;TZID=America/Denver:20140505T090000
DTEND;TZID=America/Denver:20140505T170000
DTSTAMP:20260423T122108
CREATED:20140429T214652Z
LAST-MODIFIED:20140430T200318Z
UID:2086-1399280400-1399309200@taxesarehale.com
SUMMARY:Michael and Erin in Charleston
DESCRIPTION:Michael & Erin are back in the Charleston office!
URL:https://taxesarehale.com/event/2086
END:VEVENT
BEGIN:VEVENT
DTSTART;VALUE=DATE:20140418
DTEND;VALUE=DATE:20140419
DTSTAMP:20260423T122108
CREATED:20140414T194557Z
LAST-MODIFIED:20140414T194557Z
UID:2078-1397779200-1397865599@taxesarehale.com
SUMMARY:Charleston open for Payroll
DESCRIPTION:The Charleston office will be open today for payroll purposes.
URL:https://taxesarehale.com/event/charleston-open-payroll
END:VEVENT
BEGIN:VEVENT
DTSTART;TZID=America/Denver:20140416T080000
DTEND;TZID=America/Denver:20140429T170000
DTSTAMP:20260423T122108
CREATED:20140408T195254Z
LAST-MODIFIED:20140429T214819Z
UID:2068-1397635200-1398790800@taxesarehale.com
SUMMARY:Erin and Michael in CO and other States
DESCRIPTION:Michael & Erin Hale will be in Colorado and visiting other States. The Charleston office will be open and staffed by Nathan and Natasha Hale during this time.
URL:https://taxesarehale.com/event/erin-colorado
END:VEVENT
BEGIN:VEVENT
DTSTART;VALUE=DATE:20140416
DTEND;VALUE=DATE:20140418
DTSTAMP:20260423T122108
CREATED:20140414T194439Z
LAST-MODIFIED:20140414T194439Z
UID:2077-1397606400-1397779199@taxesarehale.com
SUMMARY:Charleston Office closed
DESCRIPTION:The Charleston office will be closed. Please call and leave a message if urgent or email Natasha@000nkv0.rxportalhosting.com
URL:https://taxesarehale.com/event/charleston-office-closed
END:VEVENT
BEGIN:VEVENT
DTSTART;TZID=America/Denver:20140415T080000
DTEND;TZID=America/Denver:20140415T170000
DTSTAMP:20260423T122108
CREATED:20140408T195859Z
LAST-MODIFIED:20140408T195859Z
UID:2070-1397548800-1397581200@taxesarehale.com
SUMMARY:All extensions due April 15th.
DESCRIPTION:If you haven’t already filed your return be sure to request an extension valid through October 15th.
URL:https://taxesarehale.com/event/extensions-due-april-15th
END:VEVENT
BEGIN:VEVENT
DTSTART;VALUE=DATE:20140310
DTEND;VALUE=DATE:20140416
DTSTAMP:20260423T122108
CREATED:20140118T050426Z
LAST-MODIFIED:20140408T195110Z
UID:1966-1394409600-1397606399@taxesarehale.com
SUMMARY:Michael in Grand Junction\, Colorado
DESCRIPTION:Our staff will be at our Grand Junction\, Colorado office during this timeframe.
URL:https://taxesarehale.com/event/grand-junction-colorado-2
END:VEVENT
BEGIN:VEVENT
DTSTART;VALUE=DATE:20140307
DTEND;VALUE=DATE:20140308
DTSTAMP:20260423T122108
CREATED:20140118T050308Z
LAST-MODIFIED:20140118T050704Z
UID:1965-1394150400-1394236799@taxesarehale.com
SUMMARY:Travel Day
DESCRIPTION:Our staff will be traveling on this day.
URL:https://taxesarehale.com/event/travel-day-2
END:VEVENT
BEGIN:VEVENT
DTSTART;VALUE=DATE:20140220
DTEND;VALUE=DATE:20140307
DTSTAMP:20260423T122108
CREATED:20140118T050510Z
LAST-MODIFIED:20140118T050510Z
UID:1967-1392854400-1394150399@taxesarehale.com
SUMMARY:Charleston\, South Carolina
DESCRIPTION:Our staff will be at our Charleston\, South Carolina office during this timeframe.
URL:https://taxesarehale.com/event/charleston-south-carolina
END:VEVENT
BEGIN:VEVENT
DTSTART;VALUE=DATE:20140219
DTEND;VALUE=DATE:20140220
DTSTAMP:20260423T122108
CREATED:20140118T050223Z
LAST-MODIFIED:20140118T050312Z
UID:1964-1392768000-1392854399@taxesarehale.com
SUMMARY:Travel Day
DESCRIPTION:Our staff will be traveling on this day.
URL:https://taxesarehale.com/event/travel-day
END:VEVENT
BEGIN:VEVENT
DTSTART;VALUE=DATE:20140127
DTEND;VALUE=DATE:20140219
DTSTAMP:20260423T122108
CREATED:20140118T045422Z
LAST-MODIFIED:20140118T050346Z
UID:1962-1390780800-1392767999@taxesarehale.com
SUMMARY:Grand Junction\, Colorado
DESCRIPTION:Our staff will be at our Grand Junction\, Colorado office during this timeframe.
URL:https://taxesarehale.com/event/grand-junction-colorado
END:VEVENT
END:VCALENDAR